BEGIN:VCALENDAR
PRODID:-//https://www.berlinprojekt.com//Berlinprojekt//DE
X-PUBLISHED-TTL:PT12H
X-ORIGINAL-URL:https://www.berlinprojekt.com/termine/okumenischer-pfingstgottesdienst
VERSION:2.0
CALSCALE:GREGORIAN
METHOD:PUBLISH
BEGIN:VEVENT
DTSTAMP:20260423T114227Z
UID:69ea05a32122d
LAST-MODIFIED:20260416T135823Z
ORGANIZER:berlinprojekt
DTSTART:20260525T150000Z
DTEND:20260525T173000Z
SUMMARY:Ökumenischer Gottesdienst am Pfingstmontag | openair 
DESCRIPTION:Herzliche Einladung zu einem openair Gottesdienst\, den wir zusammen mit Gemeinden aus der Nachbarschaft gestalten!\nSeit vielen Jahren schätzen wir als Berlinprojekt die ökumenische Verbundenheit in unserer Nachbarschaft.\nDas findet dieses Jahr auch wieder Ausdruck in einem gemeinsamen ökumenischen Abendgottesdienst am Pfingstmontag auf der Wiese der St. Elisabeth-Kirche. \n\nEs gibt Stühle und man kann eine Picknickdecke für die Wiese mitbringen.\n\nNach dem Gottesdienst sind alle eingeladen noch zu bleiben: Es wird ein Fingerfood Mitbringbuffet geben\, zu dem man gerne etwas beisteuern kann.\nGetränke sind vorbereitet.\n\nMitwirkende Gemeinden:\n*Katholische Kirchengemeinde Herz Jesu (Pfarrei Bernhard Lichtenberg)\; Evangelische Gemeinde am Weinberg\; Christuskirche (Bund freier Pfingstgemeinden)\; Evangelisch-methodistische Kirche 'Aufladepause'\; Griechisch-Orthodoxe Gemeinde St. Georgios\; Stadtkloster Segen\; Gemeinschaft Chemin Neuf\; Berlinprojekt - Kirche für die Stadt (Bund freier evangelischer Gemeinden)* 
LOCATION:Wiese vor der St. Elisabeth-Kirche\, Invalidenstraße 3\, 10115 Berlin
URL:https://www.berlinprojekt.com/termine/okumenischer-pfingstgottesdienst
CLASS:PUBLIC
END:VEVENT
END:VCALENDAR