BEGIN:VCALENDAR
PRODID:-//https://www.berlinprojekt.com//Berlinprojekt//DE
X-PUBLISHED-TTL:PT12H
X-ORIGINAL-URL:https://www.berlinprojekt.com/termine/kontemplation-am-abend-galerie-kollaborativ-26-05-05
VERSION:2.0
CALSCALE:GREGORIAN
METHOD:PUBLISH
BEGIN:VEVENT
DTSTAMP:20260423T113827Z
UID:69ea04b3166bf
LAST-MODIFIED:20260402T124447Z
ORGANIZER:berlinprojekt
DTSTART:20260505T173000Z
DTEND:20260505T183000Z
SUMMARY:Kontemplation am Abend | Galerie Kollaborativ 
DESCRIPTION:Die Kontemplation am Abend findet regelmäßig jeden Dienstagabend in der Galerie Kollaborativ statt.\n\nHerzliche Einladung zu diesem gemeinsamen Stillwerden vor Gott!\n\n**Wenn du Sehnsucht danach hast:**\n\n- dich für einen Moment aus deinem Alltag und deinem Gedankenkarussell herauszunehmen\n- dich still auszurichten auf die Gegenwart Gottes \n- hinzuspüren zu dem\, was ist\n- dich empfänglich zu machen für das Wirken Gottes\n\n**Was dich erwartet:**\n\n- Eine kleine Anleitung dazu\, wie du dich in dieser Zeit ausrichten kannst\n- Eine Einladung zu einer Körperwahrnehmung vor dem gemeinsamen Stillwerden\, die dir dabei helfen kann\, all das\, was du aus deinem Tag an Gedanken und Eindrücken mitbringst\, ein wenig loszulassen und dich in der Gegenwart zu sammeln\n- 2 x 20 Minuten KONTEMPLATION mit dem Angebot einer GEHMEDITATION zwischen den Einheiten\n\n**Bitte komm schon etwas früher in die Galerie Kollaborativ\, denn wir beginnen pünktlich um 19:30 Uhr und es ist gut\, noch ein wenig Zeit zum Ankommen zu haben.**\n\nBei Fragen melde dich gerne bei Gudrun Schreiber: (email: kontemplation@berlinprojekt.com) 
LOCATION:Galerie Kollaborativ\, Saarbrücker Straße 25\, 10405 Berlin
URL:https://www.berlinprojekt.com/termine/kontemplation-am-abend-galerie-kollaborativ-26-05-05
CLASS:PUBLIC
END:VEVENT
END:VCALENDAR