BEGIN:VCALENDAR
PRODID:-//https://www.berlinprojekt.com//Berlinprojekt//DE
X-PUBLISHED-TTL:PT12H
X-ORIGINAL-URL:https://www.berlinprojekt.com/termine/karfreitag2026
VERSION:2.0
CALSCALE:GREGORIAN
METHOD:PUBLISH
BEGIN:VEVENT
DTSTAMP:20260420T105225Z
UID:69e6056908f45
LAST-MODIFIED:20260310T105618Z
ORGANIZER:berlinprojekt
DTSTART:20260403T130000Z
DTEND:20260403T140000Z
SUMMARY:Karfreitag: Andacht zur Sterbestunde 
DESCRIPTION:*Meditative Andacht zur Sterbestunde*\n\nWir laden an diesem besonderen Tag ein\, gemeinsam in der Parochialkirche Karfreitag zu begehen. Mit Musik und Texten\; Liturgie und Stille - Impulse\, um der Spannung dieses Tages zu begegnen und die Spannungen unseres eigenen Lebens mit dem Kreuzesgeschehen zu verbinden. 
LOCATION:Parochialkirche Berlin\, Klosterstraße 66-67\, 10179 Berlin
URL:https://www.berlinprojekt.com/termine/karfreitag2026
CLASS:PUBLIC
END:VEVENT
END:VCALENDAR