BEGIN:VCALENDAR
PRODID:-//https://www.berlinprojekt.com//Berlinprojekt//DE
X-PUBLISHED-TTL:PT12H
X-ORIGINAL-URL:https://www.berlinprojekt.com/termine/gottesdienst-im-kino-babylon-mitte-26-05-03
VERSION:2.0
CALSCALE:GREGORIAN
METHOD:PUBLISH
BEGIN:VEVENT
DTSTAMP:20260423T114057Z
UID:69ea0549e85ce
LAST-MODIFIED:20260422T110852Z
ORGANIZER:berlinprojekt
DTSTART:20260503T090000Z
DTEND:20260503T104500Z
SUMMARY:Gottesdienst mit Kindersegnung | Zeit zu Bleiben 
DESCRIPTION:**Herzliche Einladung zu unserem Morgengottesdienst im Kino Babylon**\n\nUnsere Gottesdienste sind Zeiten zum Innehalten und Auftanken:\nWir hören inspirierende Predigten\, lauschen den Klängen der Gastmusiker:innen\, singen gemeinsam\, beten und feiern miteinander das Abendmahl.\n\nBei allem bist du eingeladen dabei zu sein\, teilzunehmen oder auch einfach im Kinositz eingesunken auf dich wirken zu lassen.\nJeden ersten Sonntag im Monat gibt es anschließend noch eine Zeit zu Bleiben - ein Raum für Begegnung am Mitbring-Buffet.\n\nOb du schon lange dabei bist oder das erste Mal vorbeischaust – du bist herzlich willkommen!\n\n☁️🌿✨️ **Kindersegnung**\nHeute ist ein ganz besonderer Moment Teil des Gottesdiensts: Mit der Kindersegnung möchten wir unseren Kindern Wertschätzung ausdrücken\, die Glaubenskompetenz von Kindern wahrnehmen\, und um Gottes Hilfe für die Eltern in der Erziehung bitten. Als Gemeinde versprechen wir\, die Kinder weiter auf ihrem Glaubensweg zu unterstützen. \n\n**Zeit zu Bleiben**\n🍪 Nach dem Gottesdienst gibt es wieder eine Zeit zu Bleiben am Mitbringbuffet\n🍡Dafür seid ihr eingeladen Kleinigkeiten zum Essen mitzubringen\, die wir dann miteinander teilen. \n🍒In der Vergangenheit gab es Kuchen\, herzhafte Happen\, Gemüsesticks\, Chips und andere Naschereien. \n🥨Lass dich davon gern inspirieren oder bring einfach mit\, was du gern isst.\n\nEs gibt die folgenden Angebote für Kinder parallel zum 11 Uhr Gottesdienst.\nFür die genauen **Orte und Uhrzeiten** prüft bitte die folgenden Links:\n(link: aktivitaeten/kinderzeit/kinderzeit-termine text: Informationen Kinderzeit)\n(link: aktivitaeten/teens text: Informationen Teens) 
LOCATION:Kino Babylon\, Rosa-Luxemburg-Straße 30\, 10178 Berlin
URL:https://www.berlinprojekt.com/termine/gottesdienst-im-kino-babylon-mitte-26-05-03
CLASS:PUBLIC
END:VEVENT
END:VCALENDAR