BEGIN:VCALENDAR
PRODID:-//https://www.berlinprojekt.com//Berlinprojekt//DE
X-PUBLISHED-TTL:PT12H
X-ORIGINAL-URL:https://www.berlinprojekt.com/termine/gottesdienst-im-kino-babylon-mitte-26-03-22
VERSION:2.0
CALSCALE:GREGORIAN
METHOD:PUBLISH
BEGIN:VEVENT
DTSTAMP:20260420T093843Z
UID:69e5f42363a26
LAST-MODIFIED:20260305T145337Z
ORGANIZER:berlinprojekt
DTSTART:20260322T100000Z
DTEND:20260322T114500Z
SUMMARY:Gottesdienst im Kino Babylon 
DESCRIPTION:**Herzliche Einladung zu unserem Morgengottesdienst im Kino Babylon**\n\nUnsere Gottesdienste sind Zeiten zum **Innehalten und Auftanken**: \nWir hören inspirierende Predigten\, lauschen den Klängen der Gastmusiker:innen\, singen gemeinsam\, beten und feiern miteinander das Abendmahl. \n\nBei allem bist du **eingeladen** dabei zu sein\, teilzunehmen oder auch einfach im Kinositz eingesunken auf dich wirken zu lassen.\nJeden ersten Sonntag im Monat gibt es anschließend noch eine Zeit zu Bleiben - ein Raum für Begegnung am Mitbring-Buffet.\n\nOb du schon lange dabei bist oder das erste Mal vorbeischaust – **du bist herzlich willkommen!**\n\nWir starten **11:00** mit einer Zeit zum Ankommen\, Kaffee oder Tee trinken und Kekse knabbern - **11:15** beginnt dann der Gottesdienst.\n\nWir gestalten regelmäßig tolle Angebote für **Kinder** parallel zum 11 Uhr Gottesdienst.\nFür die genauen **Orte und Uhrzeiten** klicke auf die folgenden Links:\n(link: aktivitaeten/kinderzeit/kinderzeit-termine text: Informationen Kinderzeit)\n(link: aktivitaeten/teens text: Informationen Teens) 
LOCATION:Kino Babylon\,  \,  
URL:https://www.berlinprojekt.com/termine/gottesdienst-im-kino-babylon-mitte-26-03-22
CLASS:PUBLIC
END:VEVENT
END:VCALENDAR