BEGIN:VCALENDAR
PRODID:-//https://www.berlinprojekt.com//Berlinprojekt//DE
X-PUBLISHED-TTL:PT12H
X-ORIGINAL-URL:https://www.berlinprojekt.com/termine/gottesdienst-im-kino-babylon-mitte-25-04-05
VERSION:2.0
CALSCALE:GREGORIAN
METHOD:PUBLISH
BEGIN:VEVENT
DTSTAMP:20260420T093943Z
UID:69e5f45f24609
LAST-MODIFIED:20260312T133937Z
ORGANIZER:berlinprojekt
DTSTART:20260405T090000Z
DTEND:20260405T104500Z
SUMMARY:Festgottesdienst zu Ostern | Zeit zu Bleiben 
DESCRIPTION:**Herzliche Einladung zu unserem Oster-Festgottesdienst im Kino Babylon**\n\nWir starten **11:00** mit einer Zeit zum Ankommen\, Kaffee oder Tee trinken und Kekse knabbern - **11:15** beginnt dann der Gottesdienst.\n\n6 Woche Fastenzeit mit dem Thema "Stille die bewegt" gipfeln in diesem gemeinsamen Festgottesdienst zu Ostern. Lass uns gemeinsam Feiern!\n\nUnsere Gottesdienste sind Zeiten zum **Innehalten und Auftanken**:\nWir hören inspirierende Predigten\, lauschen den Klängen der Gastmusiker:innen\, singen gemeinsam\, beten und feiern miteinander das Abendmahl.\n\nBei allem bist du eingeladen dabei zu sein\, teilzunehmen oder auch einfach im Kinositz eingesunken auf dich wirken zu lassen.\nJeden ersten Sonntag im Monat gibt es anschließend noch eine Zeit zu Bleiben - ein Raum für Begegnung am Mitbring-Buffet.\n\nOb du schon lange dabei bist oder das erste Mal vorbeischaust – du bist herzlich willkommen!\n\n🍪 Nach dem Gottesdienst gibt es wieder eine **Zeit zu Bleiben** am Mitbringbuffet\n🍡Dafür seid ihr eingeladen Kleinigkeiten zum Essen mitzubringen\, die wir dann miteinander teilen. \n🍒In der Vergangenheit gab es Kuchen\, herzhafte Happen\, Gemüsesticks\, Chips und andere Naschereien. \n🥨Lass dich davon gern inspirieren oder bring einfach mit\, was du gern isst.\n\n**Ostereisuche & Fest | BP_Minis & Kinderzeit | 5.4.2025**\n\nAm Ostersonntag findet parallel zum 11 Uhr Gottesdienst das BP_Minis-Angebot sowie die Kinderzeit statt. Das Minis-Programm findet wie gewöhnlich im Ovalraum statt und die Kinderzeit im Spiegelsaal.\n\nNach der Geschichte sind alle Kinder zu einer Ostereiersuche und Picknick-Buffet auf dem Spielplatz gegenüber vom Kino Babylon eingeladen. Die BP_Minis Kinder sind von ihren Eltern beaufsichtigt und die Kinderzeit-Kinder werden vom Kinderzeit-Team betreut.\n\nWir bitten euch\, einen Korb für jedes eurer Kinder und einen kleinen Beitrag zum Buffet (nur Finger-Food bitte!) mitzubringen. Das Kinderzeit-Team sorgt für die Ostereier.\n\nIm Anschluss von dem Gottesdienst gibt es eine „Zeit zum Bleiben“ im Foyer des Babylons\, zu der alle natürlich eingeladen sind.\n\nEs gibt die folgenden **Angebote für Kinder** parallel zum 11 Uhr Gottesdienst.\nFür die genauen Orte und Uhrzeiten prüft bitte die folgenden Links:\n(link: aktivitaeten/kinderzeit/kinderzeit-termine text: Informationen Kinderzeit)\n(link: aktivitaeten/teens text: Informationen Teens) 
LOCATION:Kino Babylon\, Rosa-Luxemburg-Straße 30\, 10178 Berlin
URL:https://www.berlinprojekt.com/termine/gottesdienst-im-kino-babylon-mitte-25-04-05
CLASS:PUBLIC
END:VEVENT
END:VCALENDAR