BEGIN:VCALENDAR
PRODID:-//https://www.berlinprojekt.com//Berlinprojekt//DE
X-PUBLISHED-TTL:PT12H
X-ORIGINAL-URL:https://www.berlinprojekt.com/termine/glaube-politik-und-gesellschaft
VERSION:2.0
CALSCALE:GREGORIAN
METHOD:PUBLISH
BEGIN:VEVENT
DTSTAMP:20260420T093519Z
UID:69e5f35774d58
LAST-MODIFIED:20260312T124326Z
ORGANIZER:berlinprojekt
DTSTART:20260325T183000Z
DTEND:20260325T200000Z
SUMMARY:Welt in Unordnung – Gerechter Friede im Blick Austausch zur Friedensdenkschrift der EKD 
DESCRIPTION:**Ein Gesprächs- und Diskussionsabend über die aktuelle Friedensschrift der evangelischen Kirche: Welt in Unordnung – Gerechter Friede im Blick. Evangelische Friedensethik angesichts neuer Herausforderungen**\n\nNeue geopolitische Spannungen\, bewaffnete Konflikte an den Grenzen Europas und wachsende sicherheitspolitische Unsicherheiten stellen auch die christliche Friedensethik vor neue Fragen. Mit ihrer Denkschrift greift die EKD diese Herausforderungen auf und lädt dazu ein\, über Frieden\, Gewalt\, Verantwortung und politische Orientierung neu nachzudenken.\n\n💬 An diesem Abend wollen wir die zentralen Gedanken der Denkschrift kennenlernen und anschließend gemeinsam diskutieren: Wo überzeugt sie? Wo bleiben Fragen? Und was bedeutet sie für unseren christlichen Umgang mit Frieden\, Gewalt und Verantwortung heute? \n\n🎤 Zum Einstieg wird **(link: https://www.vef.de/wir-uber-uns/beauftragte/beauftragter-am-sitz-der-bundesregierung text: Konstantin von Abendroth)** die aktuelle Friedensdenkschrift vorstellen und ihre zentralen Gedanken erläutern. Anschließend wollen wir in einem moderierten Austausch miteinander ins Gespräch kommen und gemeinsam darüber diskutieren.\n\nHier findet ihr Material zum einlesen und anhören. \n\n**Friedensdenkschriften:**\n- (link: https://www.ekd.de/friedensdenkschrift-2025-zusammenfassung-92808.htm text: aktuelle Friedensschrift Welt in Unordnung (Zusammenfassung) )\n- (link: https://www.ekd.de/ekd_de/ds_doc/denkschrift-welt-in-unordnung-EVA-2025.pdf text: aktuelle Friedensschrift: Welt in Unordnung (Volltext) )\n- (link: https://www.ekd.de/ekd_de/ds_doc/ekd_friedensdenkschrift.pdf text: Friedensdenkschrift von 2007: Aus Gottes Frieden leben für gerechten Frieden sorgen (Volltext))\n\n**Podcasts:**\n- (link: https://open.spotify.com/show/6UTXSzeL8OYAa7i2BCZhmX?si=4ba6b9551f46428f text: Podcast der EKD: Frieden denken )\n- (link: https://open.spotify.com/episode/00mCGBg507LenqeWtPrwT9?si=c0891227b7524397 text: Gerechter Friede oder Zeitgeist?)\n\n**Artikel:**\n- (link: https://www.ekhn.de/themen/frieden-statt-krieg-und-gewalt/nachrichten-fuer-frieden/interview-zur-neuen-ekd-denkschrift text: Kirchenpräsidentin Tietz im Interview zur neuen EKD-Friedensdenkschrift)\n-(link: https://www.feinschwarz.net/friedensethik-fuer-das-21-jahrhundert/ text: Friedensethik für das 21. Jahrhundert? Ein erster Austausch zur neuen Friedensdenkschrift)\n- (link: Was leistet dei Friedensdenkschrift text: https://eulemagazin.de/neue-friedensdenkschrift-ekd-evangelisch-friedensethik-gerechter-frieden/) 
LOCATION:Galerie Kollaborativ\,  \,  
URL:https://www.berlinprojekt.com/termine/glaube-politik-und-gesellschaft
CLASS:PUBLIC
END:VEVENT
END:VCALENDAR