BEGIN:VCALENDAR
PRODID:-//https://www.berlinprojekt.com//Berlinprojekt//DE
X-PUBLISHED-TTL:PT12H
X-ORIGINAL-URL:https://www.berlinprojekt.com/termine/bp-zutisch
VERSION:2.0
CALSCALE:GREGORIAN
METHOD:PUBLISH
BEGIN:VEVENT
DTSTAMP:20260423T114134Z
UID:69ea056ee1230
LAST-MODIFIED:20260415T120908Z
ORGANIZER:berlinprojekt
DTSTART:20260513T170000Z
DTEND:20260513T183000Z
SUMMARY:BP_zu Tisch - Gemeinschaft am Abendbrottisch 
DESCRIPTION:Gemeinschaft erleben und vertiefen - und das ein einem Abendbrottisch.\n\n**Herzliche Einladung alle\, die Lust auf ein gemeinsames Abendbrot haben mit Zeit für's gegenseitige Kennenlernen und sich Begegnen und einen geistlichen Moment.\nOhne Anmeldung\, man kann einfach kommen.**\n\n- **Ab 19:00 Uhr startet das Abendbrot mit allen\, die schon da sind: Brot und Butter stehen bereit\, Teller und Besteck gibt es für alle.\nAlle bringe das mit\, was sie gerne zum Abendbrot essen und mit anderen teilen möchten.**\n\n- Später dazu kommen - kein Problem. Komm gerne wie du es schaffst. Das Abendbrot hat dann schon begonnen.\n\n- Gegen 19:30 Uhr wird das Essen kurz unterbrochen für einen gemeinsamen geistlichen Moment: Einen Bibeltext hören\, 1 gemeinsames Lied und Gebet\n\n- Danach kann weiter gegessen und ausgetauscht werden bis ca. 20:30 Uhr. Früher gehen auch kein Problem.\n\nWenn du Lust hast mitzumachen oder Leute zu dir nach Hause einzuladen\, melde dich gerne bei (email: bpzutisch@berlinprojekt.com text: Nadine).\n(image: bp_zutisch_juli2025_1.jpg) 
LOCATION:Galerie Kollaborativ\,  \,  
URL:https://www.berlinprojekt.com/termine/bp-zutisch
CLASS:PUBLIC
END:VEVENT
END:VCALENDAR