BEGIN:VCALENDAR
PRODID:-//https://www.berlinprojekt.com//Berlinprojekt//DE
X-PUBLISHED-TTL:PT12H
X-ORIGINAL-URL:https://www.berlinprojekt.com/termine/bp-lunch-mai
VERSION:2.0
CALSCALE:GREGORIAN
METHOD:PUBLISH
BEGIN:VEVENT
DTSTAMP:20260423T113532Z
UID:69ea040440a10
LAST-MODIFIED:20260422T114839Z
ORGANIZER:berlinprojekt
DTSTART:20260517T110000Z
DTEND:20260517T120000Z
SUMMARY:BP_Lunch | Luxa 
DESCRIPTION:An jedem dritten Sonntag im Monat gehen wir im Anschluss an den Gottesdienst gemeinsam zum Lunch – diesmal beim Imbiss (link: https://www.google.com/maps/search/?api=1&query=luxa%20restaurant text: Luxa). Komm gerne mit\; ganz gleich\, ob du schon lange dabei bist oder das Berlinprojekt gerade erst kennenlernst.  \n\n*Eine schöne Gelegenheit\, sich mit anderen zu connecten\, mehr über die Gemeinde zu erfahren oder einfach gemeinsam Zeit zu verbringen.   *\n\nBei Fragen kannst du dich gerne an (email: lorenz@berlinprojekt.com text: Lorenz): lorenz@berlinprojekt.com wenden. 
LOCATION:Luxa\, Torstraße 56\, 10119 Berlin
URL:https://www.berlinprojekt.com/termine/bp-lunch-mai
CLASS:PUBLIC
END:VEVENT
END:VCALENDAR