BEGIN:VCALENDAR
PRODID:-//https://www.berlinprojekt.com//Berlinprojekt//DE
X-PUBLISHED-TTL:PT12H
X-ORIGINAL-URL:https://www.berlinprojekt.com/termine/anbetungsabend-26-05-29
VERSION:2.0
CALSCALE:GREGORIAN
METHOD:PUBLISH
BEGIN:VEVENT
DTSTAMP:20260423T114016Z
UID:69ea0520db276
LAST-MODIFIED:20260422T115139Z
ORGANIZER:berlinprojekt
DTSTART:20260529T173000Z
DTEND:20260529T190000Z
SUMMARY:Anbetungsabend | Galerie Kollaborativ 
DESCRIPTION:**Gemeinsam Singen - Bewusst in der Gegenwart - Vertraute Atmosphäre**\nWir kommen wieder zusammen um bewusst mit Gesang\, Gebet und Präsenz in eine Haltung der Anbetung zu kommen. Gemeinsam richten wir uns auf Gott aus\, erlauben uns Begegnung mit Gott mitten im Alltag und verweilen in dem Moment\, der entsteht. \nDie Galerie ist uns ein vertrauter Raum\, in dem gemeinsames Singen noch einmal anders spürbar in uns klingen kann.\nDu bist herzlich eingeladen! 
LOCATION:Galerie Kollaborativ\, Saarbrücker Straße 13\, 10405 Berlin
URL:https://www.berlinprojekt.com/termine/anbetungsabend-26-05-29
CLASS:PUBLIC
END:VEVENT
END:VCALENDAR