BEGIN:VCALENDAR
PRODID:-//https://www.berlinprojekt.com//Berlinprojekt//DE
X-PUBLISHED-TTL:PT12H
X-ORIGINAL-URL:https://www.berlinprojekt.com/termine/anbetungsabend-26-04-24
VERSION:2.0
CALSCALE:GREGORIAN
METHOD:PUBLISH
BEGIN:VEVENT
DTSTAMP:20260420T030640Z
UID:69e598402eb12
LAST-MODIFIED:20260416T121212Z
ORGANIZER:berlinprojekt
DTSTART:20260424T173000Z
DTEND:20260424T190000Z
SUMMARY:Anbetungsabend 
DESCRIPTION:**Herzliche Einladung zu einem Anbetungsabend in der Galerie Kollaborativ**\nDer Abend gibt uns Zeit zum gemeinsamen Singen\, Beten und Verweilen.\nGemeinsam kreieren wir eine offene Atmosphäre\, die Raum für die Begegnung mit Gott mitten im Alltag schafft. 
LOCATION:Galerie Kollaborativ\,  \,  
URL:https://www.berlinprojekt.com/termine/anbetungsabend-26-04-24
CLASS:PUBLIC
END:VEVENT
END:VCALENDAR