BEGIN:VCALENDAR
PRODID:-//https://www.berlinprojekt.com//Berlinprojekt//DE
X-PUBLISHED-TTL:PT12H
X-ORIGINAL-URL:https://www.berlinprojekt.com/termine/abendmahlsfeier-zum-gruendonnerstag
VERSION:2.0
CALSCALE:GREGORIAN
METHOD:PUBLISH
BEGIN:VEVENT
DTSTAMP:20260420T094124Z
UID:69e5f4c4cc058
LAST-MODIFIED:20260402T104930Z
ORGANIZER:berlinprojekt
DTSTART:20260402T171500Z
DTEND:20260402T200000Z
SUMMARY:Abendmahlsfeier zum Gründonnerstag_alle Plätze belegt 
DESCRIPTION:Eine besondere Abendmahlsfeier in großer Runde am Gründonnerstag. Wir essen eine schlichte Mahlzeit und feiern gemeinsam das Abendmahl. Dazu hören wir Texte zur Karwoche. Eine besondere Zeit sich auf das Osterwochenende einzulassen und mit anderen zu teilen. \n\nEs gibt 20 Plätze\, daher bitte anmelden. Leider sind alle Plätze belegt. 
LOCATION:Galerie Kollaborativ\, Saarbrücker Straße 25\, 10405 Berlin
URL:https://www.berlinprojekt.com/termine/abendmahlsfeier-zum-gruendonnerstag
CLASS:PUBLIC
END:VEVENT
END:VCALENDAR